BEGIN:VCALENDAR
VERSION:2.0
PRODID:-//The Plex - ECPv6.15.17.1//NONSGML v1.0//EN
CALSCALE:GREGORIAN
METHOD:PUBLISH
X-WR-CALNAME:The Plex
X-ORIGINAL-URL:https://www.gotoplex.com
X-WR-CALDESC:Events for The Plex
REFRESH-INTERVAL;VALUE=DURATION:PT1H
X-Robots-Tag:noindex
X-PUBLISHED-TTL:PT1H
BEGIN:VTIMEZONE
TZID:America/Los_Angeles
BEGIN:DAYLIGHT
TZOFFSETFROM:-0800
TZOFFSETTO:-0700
TZNAME:PDT
DTSTART:20250309T100000
END:DAYLIGHT
BEGIN:STANDARD
TZOFFSETFROM:-0700
TZOFFSETTO:-0800
TZNAME:PST
DTSTART:20251102T090000
END:STANDARD
BEGIN:DAYLIGHT
TZOFFSETFROM:-0800
TZOFFSETTO:-0700
TZNAME:PDT
DTSTART:20260308T100000
END:DAYLIGHT
BEGIN:STANDARD
TZOFFSETFROM:-0700
TZOFFSETTO:-0800
TZNAME:PST
DTSTART:20261101T090000
END:STANDARD
BEGIN:DAYLIGHT
TZOFFSETFROM:-0800
TZOFFSETTO:-0700
TZNAME:PDT
DTSTART:20270314T100000
END:DAYLIGHT
BEGIN:STANDARD
TZOFFSETFROM:-0700
TZOFFSETTO:-0800
TZNAME:PST
DTSTART:20271107T090000
END:STANDARD
END:VTIMEZONE
BEGIN:VEVENT
DTSTART;TZID=America/Los_Angeles:20260320T194500
DTEND;TZID=America/Los_Angeles:20260320T211500
DTSTAMP:20260421T002334
CREATED:20260223T225122Z
LAST-MODIFIED:20260223T225323Z
UID:10000723-1774035900-1774041300@www.gotoplex.com
SUMMARY:St. Patrick's Day Open Skate
DESCRIPTION:Grab your green and roll into a shamrock-filled celebration at The Plex! Enjoy festive music\, themed lighting\, and high-energy vibes as we turn the rink into a St. Paddy’s party on wheels. \n\n\n\nBring your friends\, bring the family\, and don’t forget to dress in green. Let’s skate\, celebrate\, and make it a lucky night at The Plex!
URL:https://www.gotoplex.com/event/st-patricks-day-open-skate-2/
CATEGORIES:Social Event
ATTACH;FMTTYPE=image/png:https://www.gotoplex.com/wp-content/uploads/2026/02/Sports-Instagram-Post-20.png
END:VEVENT
BEGIN:VEVENT
DTSTART;TZID=America/Los_Angeles:20260320T190000
DTEND;TZID=America/Los_Angeles:20260320T190000
DTSTAMP:20260421T002334
CREATED:20260311T220831Z
LAST-MODIFIED:20260311T220914Z
UID:10003051-1774033200-1774033200@www.gotoplex.com
SUMMARY:San Jose Sharks Trivia Night at The Plex
DESCRIPTION:Join us at The Plex for San Jose Sharks Trivia Night\, hosted by Risky Quizness. Test your hockey knowledge with 50 Sharks-themed questions\, compete in a costume contest\, and play for fun prizes. The event is free to play\, and participants will need a smartphone\, tablet\, or laptop to join the game. WiFi will be provided.
URL:https://www.gotoplex.com/event/san-jose-sharks-trivia-night-plex/
CATEGORIES:Social Event
ATTACH;FMTTYPE=image/png:https://www.gotoplex.com/wp-content/uploads/2025/07/WW-Wednesday-Specialty-Drink-Menus-6-e1753311496212.png
END:VEVENT
BEGIN:VEVENT
DTSTART;TZID=America/Los_Angeles:20260320T180000
DTEND;TZID=America/Los_Angeles:20260320T193000
DTSTAMP:20260421T002334
CREATED:20260223T225543Z
LAST-MODIFIED:20260223T225714Z
UID:10000462-1774029600-1774035000@www.gotoplex.com
SUMMARY:St. Patrick's Day Open Skate
DESCRIPTION:Grab your green and roll into a shamrock-filled celebration at The Plex! Enjoy festive music\, themed lighting\, and high-energy vibes as we turn the rink into a St. Paddy’s party on wheels. \n\n\n\nBring your friends\, bring the family\, and don’t forget to dress in green. Let’s skate\, celebrate\, and make it a lucky night at The Plex!
URL:https://www.gotoplex.com/event/st-patricks-day-open-skate-3/
CATEGORIES:Social Event
ATTACH;FMTTYPE=image/png:https://www.gotoplex.com/wp-content/uploads/2026/02/Sports-Instagram-Post-20.png
END:VEVENT
END:VCALENDAR