BEGIN:VCALENDAR
VERSION:2.0
PRODID:-//The Plex - ECPv6.15.17.1//NONSGML v1.0//EN
CALSCALE:GREGORIAN
METHOD:PUBLISH
X-WR-CALNAME:The Plex
X-ORIGINAL-URL:https://www.gotoplex.com
X-WR-CALDESC:Events for The Plex
REFRESH-INTERVAL;VALUE=DURATION:PT1H
X-Robots-Tag:noindex
X-PUBLISHED-TTL:PT1H
BEGIN:VTIMEZONE
TZID:America/Los_Angeles
BEGIN:DAYLIGHT
TZOFFSETFROM:-0800
TZOFFSETTO:-0700
TZNAME:PDT
DTSTART:20250309T100000
END:DAYLIGHT
BEGIN:STANDARD
TZOFFSETFROM:-0700
TZOFFSETTO:-0800
TZNAME:PST
DTSTART:20251102T090000
END:STANDARD
BEGIN:DAYLIGHT
TZOFFSETFROM:-0800
TZOFFSETTO:-0700
TZNAME:PDT
DTSTART:20260308T100000
END:DAYLIGHT
BEGIN:STANDARD
TZOFFSETFROM:-0700
TZOFFSETTO:-0800
TZNAME:PST
DTSTART:20261101T090000
END:STANDARD
BEGIN:DAYLIGHT
TZOFFSETFROM:-0800
TZOFFSETTO:-0700
TZNAME:PDT
DTSTART:20270314T100000
END:DAYLIGHT
BEGIN:STANDARD
TZOFFSETFROM:-0700
TZOFFSETTO:-0800
TZNAME:PST
DTSTART:20271107T090000
END:STANDARD
END:VTIMEZONE
BEGIN:VEVENT
DTSTART;TZID=America/Los_Angeles:20260324T170000
DTEND;TZID=America/Los_Angeles:20260324T170000
DTSTAMP:20260422T013000
CREATED:20260311T211245Z
LAST-MODIFIED:20260311T211247Z
UID:10003041-1774371600-1774371600@www.gotoplex.com
SUMMARY:Sharks vs. Predators - Live at The Plex
DESCRIPTION:Watch the San Jose Sharks take on the Nashville Predators at The Plex. Catch the action on our big screens while enjoying food and drinks from The Penalty Box Bar & Grill. Bring your crew and make The Plex your go-to spot for hockey game nights.
URL:https://www.gotoplex.com/event/sharks-vs-predators-watch-party-plex/
CATEGORIES:Watch Party
ATTACH;FMTTYPE=image/png:https://www.gotoplex.com/wp-content/uploads/2025/09/sharks-Territory.png
END:VEVENT
BEGIN:VEVENT
DTSTART;TZID=America/Los_Angeles:20260321T194500
DTEND;TZID=America/Los_Angeles:20260321T211500
DTSTAMP:20260422T013000
CREATED:20260223T223049Z
LAST-MODIFIED:20260223T225007Z
UID:10001245-1774122300-1774127700@www.gotoplex.com
SUMMARY:St. Patrick's Day Open Skate
DESCRIPTION:Grab your green and roll into a shamrock-filled celebration at The Plex! Enjoy festive music\, themed lighting\, and high-energy vibes as we turn the rink into a St. Paddy’s party on wheels. \n\n\n\nBring your friends\, bring the family\, and don’t forget to dress in green. Let’s skate\, celebrate\, and make it a lucky night at The Plex!
URL:https://www.gotoplex.com/event/st-patricks-day-open-skate/
CATEGORIES:Social Event
ATTACH;FMTTYPE=image/png:https://www.gotoplex.com/wp-content/uploads/2026/02/Sports-Instagram-Post-20.png
END:VEVENT
END:VCALENDAR